BEGIN:VCALENDAR
VERSION:2.0
PRODID:-//ChamberMaster//Event Calendar 2.0//EN
METHOD:PUBLISH
X-PUBLISHED-TTL:P1H
REFRESH-INTERVAL:P1H
CALSCALE:GREGORIAN
BEGIN:VTIMEZONE
TZID:America/New_York
BEGIN:DAYLIGHT
RRULE:FREQ=YEARLY;BYMONTH=3;BYDAY=2SU
DTSTART:20070101T000000
TZOFFSETFROM:-0500
TZOFFSETTO:-0400
TZNAME:Eastern Daylight Time
END:DAYLIGHT
BEGIN:STANDARD
RRULE:FREQ=YEARLY;BYMONTH=11;BYDAY=1SU
DTSTART:20070101T000000
TZOFFSETFROM:-0400
TZOFFSETTO:-0500
TZNAME:Eastern Standard Time
END:STANDARD
END:VTIMEZONE
BEGIN:VEVENT
DTSTART;TZID=America/New_York:20260512T170000
DTEND;TZID=America/New_York:20260512T190000
X-MICROSOFT-CDO-ALLDAYEVENT:FALSE
SUMMARY:Book Launch Event for Light the Way
DESCRIPTION:a {    text-decoration: none\;    color: #464feb\; }\ntr th\, tr td {    border: 1px solid #e6e6e6\; }\ntr th {    background-color: #f5f5f5\; }\n\na {    text-decoration: none\;    color: #464feb\; }\ntr th\, tr td {    border: 1px solid #e6e6e6\; }\ntr th {    background-color: #f5f5f5\; }\n\na {    text-decoration: none\;    color: #464feb\; }\ntr th\, tr td {    border: 1px solid #e6e6e6\; }\ntr th {    background-color: #f5f5f5\; }\nJoin Light the Way\, in partnership with the Chamber of Commerce of Eastern Connecticut and the Greater Mystic Chamber of Commerce\, for the official launch of Bay the Connecticut Water Safety Dog. This engaging\, age‑appropriate children's book teaches essential water and boating safety skills through positive\, memorable storytelling. Through Bay's visits to classrooms\, boats\, lakes\, rivers\, and coastal waters\, children and families learn how to make smart\, life‑saving choices on and around the water.Founded by Jessica Britagna\, Light the Way is a Connecticut‑based 501(c)(3) nonprofit created in loving memory of her son Ryan Britagna and two other boys whose lives were tragically lost at the Saybrook Point Breakwater. The organization transforms loss into action by preventing boating accidents through education\, awareness\, and safety advocacy work that has led to meaningful\, measurable change across the state.Light the Way focuses on practical boater safety education\, community outreach\, and statewide advocacy\, including successful efforts that helped secure U.S. Coast Guard lighting at Saybrook Point and the passage of stronger DUI BUI boating safety legislation. Powered by families\, boaters\, volunteers\, and safety professionals\, the organization continues to expand hands‑on\, on‑water training initiatives to help ensure safer waterways for future generations.This special\, family‑friendly launch event is proudly hosted by Chamber board member Tai Au at The Spot Caf  in the coastal town of Groton. The gathering will include networking\, a meet‑and‑greet with the founder/author\, and book sales and signings. Open to the public and welcoming all those who've contributed to the book\, the evening celebrates education\, collaboration\, and community and a shared commitment to keeping the water a place of joy\, learning\, and safety\, not tragedy.\na {    text-decoration: none\;    color: #464feb\; }\ntr th\, tr td {    border: 1px solid #e6e6e6\; }\ntr th {    background-color: #f5f5f5\; }\n\na {    text-decoration: none\;    color: #464feb\; }\ntr th\, tr td {    border: 1px solid #e6e6e6\; }\ntr th {    background-color: #f5f5f5\; }\n\na {    text-decoration: none\;    color: #464feb\; }\ntr th\, tr td {    border: 1px solid #e6e6e6\; }\ntr th {    background-color: #f5f5f5\; }\n*Note: To help us prepare food and beverages for everyone\, RSVPs are respectfully requested."Bay the Connecticut Water Safety Dog" is sold on Amazon\, Barnes & Noble\, Leaning Rock Press LLC\, and Walmart. Discounts books will be available for purchase at the event.
X-ALT-DESC;FMTTYPE=text/html:<!DOCTYPE html><html><head><title></title></head><body aria-disabled="false"><p><meta content="text/html\; charset=us-ascii" http-equiv="Content-Type"></p><style>\na {    text-decoration: none\;    color: #464feb\; }\ntr th\, tr td {    border: 1px solid #e6e6e6\; }\ntr th {    background-color: #f5f5f5\; }\n</style><style>\na {    text-decoration: none\;    color: #464feb\; }\ntr th\, tr td {    border: 1px solid #e6e6e6\; }\ntr th {    background-color: #f5f5f5\; }\n</style><p><meta content="text/html\; charset=us-ascii" http-equiv="Content-Type"></p><style>\na {    text-decoration: none\;    color: #464feb\; }\ntr th\, tr td {    border: 1px solid #e6e6e6\; }\ntr th {    background-color: #f5f5f5\; }\n</style><div><p>Join <span style="color: rgb(41\, 105\, 176)\;"><a fr-original-style="" href="https://www.saybrookbreakwater.com/" style="text-decoration: none\; user-select: auto\; color: inherit\;"><strong fr-original-style="" style="font-weight: 700\;"><u>Light the Way</u></strong></a></span>\, in partnership with the <strong fr-original-style="" style="font-weight: 700\;">Chamber of Commerce of Eastern Connecticut</strong> and the <strong fr-original-style="" style="font-weight: 700\;">Greater Mystic Chamber of Commerce</strong>\, for the official launch of <strong fr-original-style="" style="font-weight: 700\;"><em>Bay the Connecticut Water Safety Dog</em></strong>. This engaging\, age‑appropriate children&rsquo\;s book teaches essential water and boating safety skills through positive\, memorable storytelling. Through Bay&rsquo\;s visits to classrooms\, boats\, lakes\, rivers\, and coastal waters\, children and families learn how to make smart\, life‑saving choices on and around the water.</p><p><strong fr-original-style="" style="font-weight: 700\;">Founded by Jessica Britagna\, Light the Way is a Connecticut‑based 501(c)(3) nonprofit created in loving memory of her son Ryan Britagna and two other boys whose lives were tragically lost at the Saybrook Point Breakwater.&nbsp\;</strong><strong fr-original-style="" style="font-weight: 700\;">The organization transforms loss into action</strong> by preventing boating accidents through education\, awareness\, and safety advocacy&mdash\;work that has led to meaningful\, measurable change across the state.</p><p>Light the Way focuses on practical boater <strong fr-original-style="" style="font-weight: 700\;">safety education\, community outreach\, and statewide advocacy</strong>\, including successful efforts that helped secure U.S. Coast Guard lighting at Saybrook Point and the passage of stronger DUI&ndash\;BUI boating safety legislation. Powered by families\, boaters\, volunteers\, and safety professionals\, the organization continues to expand hands‑on\, on‑water training initiatives to help ensure safer waterways for future generations.</p><p>This special\, <strong fr-original-style="" style="font-weight: 700\;">family‑friendly</strong> launch event is proudly hosted by Chamber board member Tai Au at <strong fr-original-style="" style="font-weight: 700\;">The Spot&nbsp\;</strong><strong fr-original-style="" style="font-weight: 700\;">Caf&eacute\;&nbsp\;</strong>in the coastal town of Groton. The gathering will include <strong fr-original-style="" style="font-weight: 700\;">networking</strong>\, a <strong fr-original-style="" style="font-weight: 700\;">meet‑and‑greet with the founder/author</strong>\, and <strong fr-original-style="" style="font-weight: 700\;">b</strong><strong fr-original-style="" style="font-weight: 700\;">ook sales and signings</strong>. <strong fr-original-style="" style="font-weight: 700\;">Open to the public and welcoming all those who&#39\;ve contributed to the book</strong>\, the evening celebrates <strong fr-original-style="" style="font-weight: 700\;">education</strong>\, <strong fr-original-style="" style="font-weight: 700\;">collaboration</strong>\, and <strong fr-original-style="" style="font-weight: 700\;">community</strong>&mdash\;and a shared commitment to keeping the water a place of joy\, learning\, and safety\, not tragedy.</p></div><p><meta content="text/html\; charset=us-ascii" http-equiv="Content-Type"></p><style>\na {    text-decoration: none\;    color: #464feb\; }\ntr th\, tr td {    border: 1px solid #e6e6e6\; }\ntr th {    background-color: #f5f5f5\; }\n</style><style>\na {    text-decoration: none\;    color: #464feb\; }\ntr th\, tr td {    border: 1px solid #e6e6e6\; }\ntr th {    background-color: #f5f5f5\; }\n</style><p><meta content="text/html\; charset=us-ascii" http-equiv="Content-Type"></p><style>\na {    text-decoration: none\;    color: #464feb\; }\ntr th\, tr td {    border: 1px solid #e6e6e6\; }\ntr th {    background-color: #f5f5f5\; }\n</style><div><strong fr-original-style="" style="font-weight: 700\;">*Note:&nbsp\;</strong>To help us prepare food and beverages for everyone\, <strong fr-original-style="" style="font-weight: 700\;">RSVPs are respectfully requested</strong>.</div><hr fr-original-style="" style="clear: both\; user-select: none\; break-after: page\;"><p><strong fr-original-style="" style="font-weight: 700\;">&quot\;Bay the Connecticut Water Safety Dog&quot\;</strong> is sold on <span style="color: rgb(41\, 105\, 176)\;"><u><a fr-original-style="" href="https://www.amazon.com/dp/1960596926?ref=cm_sw_r_ffobk_cso_cp_apin_dp_DXYDJY0KEWHPB5AHDRSA_2&ref_=cm_sw_r_ffobk_cso_cp_apin_dp_DXYDJY0KEWHPB5AHDRSA_2&social_share=cm_sw_r_ffobk_cso_cp_apin_dp_DXYDJY0KEWHPB5AHDRSA_2&bestFormat=true" style="text-decoration: none\; user-select: auto\; color: inherit\;"><strong fr-original-style="" style="font-weight: 700\;">Amazon</strong></a></u></span>\, <span style="color: rgb(41\, 105\, 176)\;"><u><a fr-original-style="" href="https://www.barnesandnoble.com/s/bay%20the%20connecticut%20water%20safety%20dog" style="text-decoration: none\; user-select: auto\; color: inherit\;"><strong fr-original-style="" style="font-weight: 700\;">Barnes &amp\; Noble</strong></a></u></span>\, <span style="color: rgb(41\, 105\, 176)\;"><a fr-original-style="" href="https://leaningrockpress.com/" style="text-decoration: none\; user-select: auto\; color: inherit\;"><strong fr-original-style="" style="font-weight: 700\;"><u>Leaning Rock Press LLC</u></strong></a></span>\, and <span style="color: rgb(41\, 105\, 176)\;"><strong fr-original-style="" style="font-weight: 700\;"><a fr-original-style="" href="https://www.walmart.com/ip/Bay-the-Connecticut-Water-Safety-Dog-A-Children-s-Water-Safety-Story-Paperback-9781960596932/19972851917" style="text-decoration: none\; user-select: auto\; color: inherit\;"><u>Walmart</u></a></strong></span>. Discounts books will be available for purchase at the event.&nbsp\;</p></body></html>
LOCATION:11 Buddington Road Groton CT 06340
UID:e.4099.1449843
SEQUENCE:3
DTSTAMP:20260425T160054Z
URL:https://info.chamberect.com/events/Details/book-launch-event-for-light-the-way-1717347?sourceTypeId=Hub
END:VEVENT
END:VCALENDAR
